BEGIN:VCALENDAR
VERSION:2.0
PRODID:-//Cosmetics Testing News - ECPv6.15.20//NONSGML v1.0//EN
CALSCALE:GREGORIAN
METHOD:PUBLISH
X-WR-CALNAME:Cosmetics Testing News
X-ORIGINAL-URL:https://news.skinobs.com
X-WR-CALDESC:Events for Cosmetics Testing News
REFRESH-INTERVAL;VALUE=DURATION:PT1H
X-Robots-Tag:noindex
X-PUBLISHED-TTL:PT1H
BEGIN:VTIMEZONE
TZID:Europe/Helsinki
BEGIN:DAYLIGHT
TZOFFSETFROM:+0200
TZOFFSETTO:+0300
TZNAME:EEST
DTSTART:20250330T010000
END:DAYLIGHT
BEGIN:STANDARD
TZOFFSETFROM:+0300
TZOFFSETTO:+0200
TZNAME:EET
DTSTART:20251026T010000
END:STANDARD
BEGIN:DAYLIGHT
TZOFFSETFROM:+0200
TZOFFSETTO:+0300
TZNAME:EEST
DTSTART:20260329T010000
END:DAYLIGHT
BEGIN:STANDARD
TZOFFSETFROM:+0300
TZOFFSETTO:+0200
TZNAME:EET
DTSTART:20261025T010000
END:STANDARD
BEGIN:DAYLIGHT
TZOFFSETFROM:+0200
TZOFFSETTO:+0300
TZNAME:EEST
DTSTART:20270328T010000
END:DAYLIGHT
BEGIN:STANDARD
TZOFFSETFROM:+0300
TZOFFSETTO:+0200
TZNAME:EET
DTSTART:20271031T010000
END:STANDARD
END:VTIMEZONE
BEGIN:VEVENT
DTSTART;TZID=Europe/Helsinki:20260623T080000
DTEND;TZID=Europe/Helsinki:20260624T170000
DTSTAMP:20260425T213110
CREATED:20251113T091410Z
LAST-MODIFIED:20251113T091410Z
UID:63195-1782201600-1782320400@news.skinobs.com
SUMMARY:Anti-Ageing Skin Care Conference
DESCRIPTION:
URL:https://news.skinobs.com/en/event/anti-ageing-skin-care-conference-2/
LOCATION:Royal College of Physicians\, London\, Royal College of Physicians\, London\, United Kingdom
END:VEVENT
END:VCALENDAR