BEGIN:VCALENDAR
VERSION:2.0
PRODID:-//Cosmetics Testing News - ECPv6.15.20//NONSGML v1.0//EN
CALSCALE:GREGORIAN
METHOD:PUBLISH
X-WR-CALNAME:Cosmetics Testing News
X-ORIGINAL-URL:https://news.skinobs.com
X-WR-CALDESC:Events for Cosmetics Testing News
REFRESH-INTERVAL;VALUE=DURATION:PT1H
X-Robots-Tag:noindex
X-PUBLISHED-TTL:PT1H
BEGIN:VTIMEZONE
TZID:Europe/Helsinki
BEGIN:DAYLIGHT
TZOFFSETFROM:+0200
TZOFFSETTO:+0300
TZNAME:EEST
DTSTART:20250330T010000
END:DAYLIGHT
BEGIN:STANDARD
TZOFFSETFROM:+0300
TZOFFSETTO:+0200
TZNAME:EET
DTSTART:20251026T010000
END:STANDARD
BEGIN:DAYLIGHT
TZOFFSETFROM:+0200
TZOFFSETTO:+0300
TZNAME:EEST
DTSTART:20260329T010000
END:DAYLIGHT
BEGIN:STANDARD
TZOFFSETFROM:+0300
TZOFFSETTO:+0200
TZNAME:EET
DTSTART:20261025T010000
END:STANDARD
BEGIN:DAYLIGHT
TZOFFSETFROM:+0200
TZOFFSETTO:+0300
TZNAME:EEST
DTSTART:20270328T010000
END:DAYLIGHT
BEGIN:STANDARD
TZOFFSETFROM:+0300
TZOFFSETTO:+0200
TZNAME:EET
DTSTART:20271031T010000
END:STANDARD
END:VTIMEZONE
BEGIN:VEVENT
DTSTART;TZID=Europe/Helsinki:20260624T000000
DTEND;TZID=Europe/Helsinki:20260626T235959
DTSTAMP:20260425T213137
CREATED:20250722T143019Z
LAST-MODIFIED:20250722T143019Z
UID:43484-1782259200-1782518399@news.skinobs.com
SUMMARY:Cosmoprof CBE Bangkok
DESCRIPTION:
URL:https://news.skinobs.com/en/event/cosmoprof-cbe-bangkok-2/
LOCATION:World Trade Center Metro Manila\, 2/F WTCMM Building\,Pasay Extension corner\, 1300 Sen. Gil J. Puyat Ave\, Pasay\, Philippines
END:VEVENT
END:VCALENDAR