BEGIN:VCALENDAR
VERSION:2.0
PRODID:-//Cosmetics Testing News - ECPv6.15.20//NONSGML v1.0//EN
CALSCALE:GREGORIAN
METHOD:PUBLISH
X-WR-CALNAME:Cosmetics Testing News
X-ORIGINAL-URL:https://news.skinobs.com
X-WR-CALDESC:Évènements pour Cosmetics Testing News
REFRESH-INTERVAL;VALUE=DURATION:PT1H
X-Robots-Tag:noindex
X-PUBLISHED-TTL:PT1H
BEGIN:VTIMEZONE
TZID:Europe/Helsinki
BEGIN:DAYLIGHT
TZOFFSETFROM:+0200
TZOFFSETTO:+0300
TZNAME:EEST
DTSTART:20250330T010000
END:DAYLIGHT
BEGIN:STANDARD
TZOFFSETFROM:+0300
TZOFFSETTO:+0200
TZNAME:EET
DTSTART:20251026T010000
END:STANDARD
BEGIN:DAYLIGHT
TZOFFSETFROM:+0200
TZOFFSETTO:+0300
TZNAME:EEST
DTSTART:20260329T010000
END:DAYLIGHT
BEGIN:STANDARD
TZOFFSETFROM:+0300
TZOFFSETTO:+0200
TZNAME:EET
DTSTART:20261025T010000
END:STANDARD
BEGIN:DAYLIGHT
TZOFFSETFROM:+0200
TZOFFSETTO:+0300
TZNAME:EEST
DTSTART:20270328T010000
END:DAYLIGHT
BEGIN:STANDARD
TZOFFSETFROM:+0300
TZOFFSETTO:+0200
TZNAME:EET
DTSTART:20271031T010000
END:STANDARD
END:VTIMEZONE
BEGIN:VEVENT
DTSTART;TZID=Europe/Helsinki:20260519T000000
DTEND;TZID=Europe/Helsinki:20260519T235959
DTSTAMP:20260425T230335
CREATED:20260416T091228Z
LAST-MODIFIED:20260416T091228Z
UID:96698-1779148800-1779235199@news.skinobs.com
SUMMARY:Journée Microbiotes et Santé 2026
DESCRIPTION:19 mai 2026 | I-Factory\, Villeurbanne \nLors de cette 9ème édition\, venez échanger autour du microbiote cutané\, le gut-skin axis et les microbiotes des muqueuses\, trois univers intimement liés\, au cœur de la recherche scientifique et technologique et de l’innovation thérapeutique\, diagnostique et cosmétique.\nCet événement rassemblera les communautés pour croiser les expertises\, confronter les approches et encourager de nouvelles collaborations en recherche\, développement et innovation. \nCette édition s’articulera autour des temps forts suivants : \n• Des conférences thématiques et tables rondes de discussion aussi bien sur des approches amonts que sur des problématiques appliquées\n• Une session de présentations courtes sur appel à communication\n• Des rendez-vous BtoB pour développer de nouveaux partenariats\n• Des temps conviviaux et de networking informel
URL:https://news.skinobs.com/event/journee-microbiotes-et-sante-2026/
LOCATION:Villeurbanne\, 10 Avenue Jean Capelle Ouest I-Factory\, Villeurbanne\, 69100\, France
END:VEVENT
END:VCALENDAR